BEGIN:VCALENDAR
VERSION:2.0
PRODID:-//142.132.130.121//NONSGML kigkonsult.se iCalcreator 2.20//
CALSCALE:GREGORIAN
METHOD:PUBLISH
X-WR-TIMEZONE:UTC
BEGIN:VEVENT
UID:event314@CC UPOB e.V.
DTSTAMP:20260422T183951Z
CATEGORIES:Info extern
DESCRIPTION:World of Nano 2014 Hannover Messe 2014\nKategorie: Info extern
 \nICS-Link: https://upob.de/index.php?option=com_jem&view=event&id=314:wor
 ld-of-nano-2014-hannover-messe-2014\n
DTSTART;VALUE=DATE:20140407
DTEND;VALUE=DATE:20140412
LOCATION:Hannover Messegelände\,Hermesallee\,30521 Hannover
SUMMARY:World of Nano 2014 Hannover Messe 2014
URL:https://upob.de/index.php?option=com_jem&view=event&id=314:world-of-nan
 o-2014-hannover-messe-2014
END:VEVENT
END:VCALENDAR