BEGIN:VCALENDAR
VERSION:2.0
PRODID:-//142.132.130.121//NONSGML kigkonsult.se iCalcreator 2.20//
CALSCALE:GREGORIAN
METHOD:PUBLISH
X-WR-TIMEZONE:UTC
BEGIN:VEVENT
UID:event588@CC UPOB e.V.
DTSTAMP:20260419T115910Z
CATEGORIES:Info extern
DESCRIPTION:SPIE: Optics + Photonics 2019\nKategorie: Info extern\nICS-Link
 : https://upob.de/index.php?option=com_jem&view=event&id=588:spie-optics-p
 hotonics-2019\n
DTSTART;VALUE=DATE:20190813
DTEND;VALUE=DATE:20190816
LOCATION:San Diego\,San Diego
SUMMARY:SPIE: Optics + Photonics 2019
URL:https://upob.de/index.php?option=com_jem&view=event&id=588:spie-optics-
 photonics-2019
END:VEVENT
END:VCALENDAR