BEGIN:VCALENDAR
VERSION:2.0
PRODID:-//142.132.130.121//NONSGML kigkonsult.se iCalcreator 2.20//
CALSCALE:GREGORIAN
METHOD:PUBLISH
X-WR-TIMEZONE:UTC
BEGIN:VEVENT
UID:event605@CC UPOB e.V.
DTSTAMP:20260421T082421Z
CATEGORIES:Info extern
DESCRIPTION:ICCG 13 - The International Conference on Coatings on Glass and
  Plastics\nKategorie: Info extern\nICS-Link: https://upob.de/index.php?opt
 ion=com_jem&view=event&id=605:iccg-13-the-international-conference-on-coat
 ings-on-glass-and-plastics\n
DTSTART;VALUE=DATE:20200323
DTEND;VALUE=DATE:20200327
LOCATION:Braunschweig
SUMMARY:ICCG 13 - The International Conference on Coatings on Glass and Pla
 stics
URL:https://upob.de/index.php?option=com_jem&view=event&id=605:iccg-13-the-
 international-conference-on-coatings-on-glass-and-plastics
END:VEVENT
END:VCALENDAR